BEGIN:VCALENDAR
VERSION:2.0
PRODID:-//Equisudagenda - ECPv6.9.0//NONSGML v1.0//EN
CALSCALE:GREGORIAN
METHOD:PUBLISH
X-WR-CALNAME:Equisudagenda
X-ORIGINAL-URL:https://equisudagenda.fr
X-WR-CALDESC:Évènements pour Equisudagenda
REFRESH-INTERVAL;VALUE=DURATION:PT1H
X-Robots-Tag:noindex
X-PUBLISHED-TTL:PT1H
BEGIN:VTIMEZONE
TZID:Europe/Paris
BEGIN:DAYLIGHT
TZOFFSETFROM:+0100
TZOFFSETTO:+0200
TZNAME:CEST
DTSTART:20240331T010000
END:DAYLIGHT
BEGIN:STANDARD
TZOFFSETFROM:+0200
TZOFFSETTO:+0100
TZNAME:CET
DTSTART:20241027T010000
END:STANDARD
END:VTIMEZONE
BEGIN:VEVENT
DTSTART;VALUE=DATE:20240920
DTEND;VALUE=DATE:20240923
DTSTAMP:20260420T091004
CREATED:20240417T082606Z
LAST-MODIFIED:20240909T133057Z
UID:5270-1726790400-1727049599@equisudagenda.fr
SUMMARY:Rallye en Gascogne (82)
DESCRIPTION:ANNULE                                    >\n\n\n 
URL:https://equisudagenda.fr/event/rallye-en-gascogne-82/
CATEGORIES:Rando monté
END:VEVENT
END:VCALENDAR