BEGIN:VCALENDAR
VERSION:2.0
PRODID:-//Equisudagenda - ECPv6.9.0//NONSGML v1.0//EN
CALSCALE:GREGORIAN
METHOD:PUBLISH
X-WR-CALNAME:Equisudagenda
X-ORIGINAL-URL:https://equisudagenda.fr
X-WR-CALDESC:Évènements pour Equisudagenda
REFRESH-INTERVAL;VALUE=DURATION:PT1H
X-Robots-Tag:noindex
X-PUBLISHED-TTL:PT1H
BEGIN:VTIMEZONE
TZID:Europe/Paris
BEGIN:DAYLIGHT
TZOFFSETFROM:+0100
TZOFFSETTO:+0200
TZNAME:CEST
DTSTART:20250330T010000
END:DAYLIGHT
BEGIN:STANDARD
TZOFFSETFROM:+0200
TZOFFSETTO:+0100
TZNAME:CET
DTSTART:20251026T010000
END:STANDARD
END:VTIMEZONE
BEGIN:VEVENT
DTSTART;VALUE=DATE:20250329
DTEND;VALUE=DATE:20250401
DTSTAMP:20260419T202901
CREATED:20250322T202353Z
LAST-MODIFIED:20250322T202705Z
UID:5775-1743206400-1743465599@equisudagenda.fr
SUMMARY:3 Jours en Autonomie Montech (82)
DESCRIPTION:Programme disponible\n                                                  \n\n\n 
URL:https://equisudagenda.fr/event/3-jours-en-autonomie-montech-82/
CATEGORIES:Rando monté
END:VEVENT
BEGIN:VEVENT
DTSTART;VALUE=DATE:20250330
DTEND;VALUE=DATE:20250331
DTSTAMP:20260419T202901
CREATED:20250322T202254Z
LAST-MODIFIED:20250322T202744Z
UID:5772-1743292800-1743379199@equisudagenda.fr
SUMMARY:Rando La forêt d'Agre (82)
DESCRIPTION:Programme disponible\n                                                           \n\n\n 
URL:https://equisudagenda.fr/event/rando-la-foret-dagre-82/
CATEGORIES:Rando monté
END:VEVENT
END:VCALENDAR