BEGIN:VCALENDAR
VERSION:2.0
PRODID:-//Equisudagenda - ECPv6.9.0//NONSGML v1.0//EN
CALSCALE:GREGORIAN
METHOD:PUBLISH
X-WR-CALNAME:Equisudagenda
X-ORIGINAL-URL:http://equisudagenda.fr
X-WR-CALDESC:Évènements pour Equisudagenda
REFRESH-INTERVAL;VALUE=DURATION:PT1H
X-Robots-Tag:noindex
X-PUBLISHED-TTL:PT1H
BEGIN:VTIMEZONE
TZID:Europe/Paris
BEGIN:DAYLIGHT
TZOFFSETFROM:+0100
TZOFFSETTO:+0200
TZNAME:CEST
DTSTART:20260329T010000
END:DAYLIGHT
BEGIN:STANDARD
TZOFFSETFROM:+0200
TZOFFSETTO:+0100
TZNAME:CET
DTSTART:20261025T010000
END:STANDARD
END:VTIMEZONE
BEGIN:VEVENT
DTSTART;VALUE=DATE:20260607
DTEND;VALUE=DATE:20260608
DTSTAMP:20260422T014644
CREATED:20260312T144246Z
LAST-MODIFIED:20260312T144716Z
UID:6112-1780790400-1780876799@equisudagenda.fr
SUMMARY:Randonée à Durbans (46)
DESCRIPTION:Programme disponible. \n                                                                                  \nInscription :en ligne sur HelloAsso :https://www.helloasso.com/…/rallye-equestre-de-durbans…par mail cavalcausse@gmail.compar téléphone Maryane : 0688887397ou sur place à partir de 8h00 (rallye uniquement).Possibilité de monter des paddocks sur place (ombre limitée).Fiche d’inscription à télécharger ici :https://www.lechevalenpaysdesalviac.fr/…/affiches-des… \n\n\n 
URL:http://equisudagenda.fr/event/randonee-a-durbans-46/
CATEGORIES:Rando monté
END:VEVENT
END:VCALENDAR