BEGIN:VCALENDAR
VERSION:2.0
PRODID:-//Equisudagenda - ECPv6.9.0//NONSGML v1.0//EN
CALSCALE:GREGORIAN
METHOD:PUBLISH
X-ORIGINAL-URL:http://equisudagenda.fr
X-WR-CALDESC:Évènements pour Equisudagenda
REFRESH-INTERVAL;VALUE=DURATION:PT1H
X-Robots-Tag:noindex
X-PUBLISHED-TTL:PT1H
BEGIN:VTIMEZONE
TZID:Europe/Paris
BEGIN:DAYLIGHT
TZOFFSETFROM:+0100
TZOFFSETTO:+0200
TZNAME:CEST
DTSTART:20250330T010000
END:DAYLIGHT
BEGIN:STANDARD
TZOFFSETFROM:+0200
TZOFFSETTO:+0100
TZNAME:CET
DTSTART:20251026T010000
END:STANDARD
END:VTIMEZONE
BEGIN:VEVENT
DTSTART;VALUE=DATE:20250601
DTEND;VALUE=DATE:20250602
DTSTAMP:20260419T175120
CREATED:20250116T141423Z
LAST-MODIFIED:20250116T141423Z
UID:5675-1748736000-1748822399@equisudagenda.fr
SUMMARY:Randonnée à Hautefage Latour (47)
DESCRIPTION:Programme à venir. \n                                                                                  \n\n\n  \n\n\n\n\n  \n\n\n\n\n 
URL:http://equisudagenda.fr/event/randonnee-a-hautefage-latour-47/
CATEGORIES:Rando monté
END:VEVENT
BEGIN:VEVENT
DTSTART;VALUE=DATE:20250608
DTEND;VALUE=DATE:20250609
DTSTAMP:20260419T175120
CREATED:20250116T141855Z
LAST-MODIFIED:20250604T190942Z
UID:5679-1749340800-1749427199@equisudagenda.fr
SUMMARY:Randonnée à Escassefort (47)
DESCRIPTION:Programme disponible. \n                                                                      
URL:http://equisudagenda.fr/event/randonnee-a-escassefort-47/
CATEGORIES:Rando attelé,Rando monté
END:VEVENT
BEGIN:VEVENT
DTSTART;VALUE=DATE:20250614
DTEND;VALUE=DATE:20250616
DTSTAMP:20260419T175120
CREATED:20250116T142810Z
LAST-MODIFIED:20250322T201601Z
UID:5683-1749859200-1750031999@equisudagenda.fr
SUMMARY:Rallye GRTE47 à Prayssas (47)
DESCRIPTION:Programme disponible. \n                                                                              \n\n\n\n\n 
URL:http://equisudagenda.fr/event/rallye-grte47-a-prayssas-47/
CATEGORIES:Rando monté
END:VEVENT
BEGIN:VEVENT
DTSTART;VALUE=DATE:20250622
DTEND;VALUE=DATE:20250623
DTSTAMP:20260419T175120
CREATED:20250116T143410Z
LAST-MODIFIED:20250116T143425Z
UID:5687-1750550400-1750636799@equisudagenda.fr
SUMMARY:Randonnée à Labretonie (47)
DESCRIPTION:Programme à venir. \n                                                                  \n\n\n  \n\n\n 
URL:http://equisudagenda.fr/event/randonnee-a-labretonie-47/
CATEGORIES:Rando monté
END:VEVENT
END:VCALENDAR