BEGIN:VCALENDAR
VERSION:2.0
PRODID:-//Equisudagenda - ECPv6.9.0//NONSGML v1.0//EN
CALSCALE:GREGORIAN
METHOD:PUBLISH
X-WR-CALNAME:Equisudagenda
X-ORIGINAL-URL:http://equisudagenda.fr
X-WR-CALDESC:Évènements pour Equisudagenda
REFRESH-INTERVAL;VALUE=DURATION:PT1H
X-Robots-Tag:noindex
X-PUBLISHED-TTL:PT1H
BEGIN:VTIMEZONE
TZID:Europe/Paris
BEGIN:DAYLIGHT
TZOFFSETFROM:+0100
TZOFFSETTO:+0200
TZNAME:CEST
DTSTART:20260329T010000
END:DAYLIGHT
BEGIN:STANDARD
TZOFFSETFROM:+0200
TZOFFSETTO:+0100
TZNAME:CET
DTSTART:20261025T010000
END:STANDARD
END:VTIMEZONE
BEGIN:VEVENT
DTSTART;VALUE=DATE:20260426
DTEND;VALUE=DATE:20260427
DTSTAMP:20260421T172728
CREATED:20260202T154048Z
LAST-MODIFIED:20260410T201121Z
UID:6072-1777161600-1777247999@equisudagenda.fr
SUMMARY:Randonée des Brunes (12)
DESCRIPTION:Reporté \n                                                        \nOrganisation\,Ranch du Levezou et ATEA12 \n  \n\n\n 
URL:http://equisudagenda.fr/event/randonee-des-brunes-12/
CATEGORIES:Rando monté
END:VEVENT
BEGIN:VEVENT
DTSTART;VALUE=DATE:20260501
DTEND;VALUE=DATE:20260502
DTSTAMP:20260421T172728
CREATED:20260202T154344Z
LAST-MODIFIED:20260410T201020Z
UID:6074-1777593600-1777679999@equisudagenda.fr
SUMMARY:Randonnée à Camares (12)
DESCRIPTION:Programme disponible  Lien ICI  \n \nOrganisation\, Association C.C.R.A.C \n\n\n 
URL:http://equisudagenda.fr/event/randonnee-a-st-afrique-12/
CATEGORIES:Rando monté
END:VEVENT
BEGIN:VEVENT
DTSTART;VALUE=DATE:20260510
DTEND;VALUE=DATE:20260511
DTSTAMP:20260421T172728
CREATED:20260202T155249Z
LAST-MODIFIED:20260202T155249Z
UID:6079-1778371200-1778457599@equisudagenda.fr
SUMMARY:Randonnée à Promilhanes (46)
DESCRIPTION:Programme à venir. \n                                                 \nOrganisation\, Centre équestre du Château de Laumiere \n\n\n 
URL:http://equisudagenda.fr/event/randonnee-a-promilhanes-46/
CATEGORIES:Rando monté
END:VEVENT
BEGIN:VEVENT
DTSTART;VALUE=DATE:20260517
DTEND;VALUE=DATE:20260518
DTSTAMP:20260421T172728
CREATED:20260202T155509Z
LAST-MODIFIED:20260202T155509Z
UID:6081-1778976000-1779062399@equisudagenda.fr
SUMMARY:Randonnée à Arvieu (12)
DESCRIPTION:Programme à venir. \n                                                     \nOrganisation\, Gavroche&Co \n\n\n 
URL:http://equisudagenda.fr/event/randonnee-a-arvieu-12/
CATEGORIES:Rando monté
END:VEVENT
BEGIN:VEVENT
DTSTART;VALUE=DATE:20260607
DTEND;VALUE=DATE:20260608
DTSTAMP:20260421T172728
CREATED:20260210T093330Z
LAST-MODIFIED:20260210T093330Z
UID:6088-1780790400-1780876799@equisudagenda.fr
SUMMARY:Randonnée à Lunel (12)
DESCRIPTION:Programme disponible \n                                                               \n\n\n 
URL:http://equisudagenda.fr/event/randonnee-a-lunel-12-2/
CATEGORIES:Rando monté
END:VEVENT
BEGIN:VEVENT
DTSTART;VALUE=DATE:20260905
DTEND;VALUE=DATE:20260907
DTSTAMP:20260421T172728
CREATED:20260124T212043Z
LAST-MODIFIED:20260124T212043Z
UID:6046-1788566400-1788739199@equisudagenda.fr
SUMMARY:Rallye à Moyrazes (12)
DESCRIPTION:Programme à venir. \n      \n\n\n 
URL:http://equisudagenda.fr/event/rallye-a-moyrazes-12/
CATEGORIES:Rando monté
END:VEVENT
END:VCALENDAR