BEGIN:VCALENDAR
VERSION:2.0
PRODID:-//Equisudagenda - ECPv6.9.0//NONSGML v1.0//EN
CALSCALE:GREGORIAN
METHOD:PUBLISH
X-WR-CALNAME:Equisudagenda
X-ORIGINAL-URL:http://equisudagenda.fr
X-WR-CALDESC:Évènements pour Equisudagenda
REFRESH-INTERVAL;VALUE=DURATION:PT1H
X-Robots-Tag:noindex
X-PUBLISHED-TTL:PT1H
BEGIN:VTIMEZONE
TZID:Europe/Paris
BEGIN:DAYLIGHT
TZOFFSETFROM:+0100
TZOFFSETTO:+0200
TZNAME:CEST
DTSTART:20260329T010000
END:DAYLIGHT
BEGIN:STANDARD
TZOFFSETFROM:+0200
TZOFFSETTO:+0100
TZNAME:CET
DTSTART:20261025T010000
END:STANDARD
END:VTIMEZONE
BEGIN:VEVENT
DTSTART;VALUE=DATE:20260425
DTEND;VALUE=DATE:20260427
DTSTAMP:20260425T015419
CREATED:20260124T210252Z
LAST-MODIFIED:20260410T200308Z
UID:6030-1777075200-1777247999@equisudagenda.fr
SUMMARY:Rando à Rouffiac (81)
DESCRIPTION:Programme disponible. \n                                                       > \nFiche d’inscription ICI   
URL:http://equisudagenda.fr/event/rando-a-rouffiac-81-2/
CATEGORIES:Rando monté
ORGANIZER;CN="EACCI":MAILTO:contact.eacci@gmail.com
END:VEVENT
END:VCALENDAR